BEGIN:VCALENDAR
VERSION:2.0
PRODID:-//ChamberMaster//Event Calendar 2.0//EN
METHOD:PUBLISH
X-PUBLISHED-TTL:P3D
REFRESH-INTERVAL:P3D
CALSCALE:GREGORIAN
BEGIN:VEVENT
DTSTART:20260527T140000Z
DTEND:20260528T223000Z
X-MICROSOFT-CDO-ALLDAYEVENT:FALSE
SUMMARY:ACI CSA Standards Concrete Field Testing Certification - Edmonton 2026
DESCRIPTION:Program Description (2 Day Program)\n\nThe ACI CSA Standards Concrete Field Testing Technician Certification Program has been developed for the purpose of certifying concrete testing technicians who have demonstrated the knowledge and ability to perform\, properly\, the basic field tests on plastic concrete.\n\n\n\nCSA A23.1 states that all field sampling and test procedures undertaken to assess concrete quality shall be carried out in a accordance with the requirements of CSA A23.2 by personnel certified under an industry recognized program such as CSA A283 or CAN/CSA-ISO 9001 with equivalent scope to CSA A283\; or ACI CSA Standards Concrete Field Testing Technician (formerly ACI Concrete Field Testing Technician Grade1).\n\n\n\nPlease Note: This is not a training course\, it is a certification program. Prior testing experience is required. Please be sure to study the workbook thoroughly prior to the  review session and exams!\n\n\n\nThe Review Session will be scheduled on the morning of the first day.  Though this part is not compulsory to attend\, it is highly recommended that all participants attend so that everyone is very clear on all of the required procedures that will need to be maintained to complete the Written and Performance exams successfully and in a safe manner.\n\n\n\nThe Test Methods Practice Session will be held in the afternoon of the first day. \n\n\n\nThe Written exam will be held on the morning of the second day. Please be sure to bring your own HB pencil and eraser as well as a calculator. Cell phones are not permitted for use in ACI written exams. No food or drink will be provided. You may bring a bottle of water (please take any empty bottles with you when you leave).\n\n\n\nThe Performance Exam will immediately follow the written exam on the same day. \n\n\n\nPPE will be the responsibility of the participant. Required PPE include safety boots or shoes that can withstand exposure to concrete\, safety glasses\,  long pants and long-sleeved shirts\, Hi Viz Vests or High Vis Coveralls\, hard hats and gloves.\n\n\n\nThere will be a very limited supply of extra disposable gloves should yours become inoperable at the time of the performance exam. Face masks are optional. You must bring a piece of government issued photo identification either a valid driver's license or valid passport.
X-ALT-DESC;FMTTYPE=text/html:<span style="font-size:14px\;"><span style="font-family:arial\;"><strong>Program Description (2 Day Program)</strong><br />\nThe ACI CSA Standards Concrete Field Testing Technician Certification Program has been developed for the purpose of certifying concrete testing technicians who have demonstrated the knowledge and ability to perform\, properly\, the basic field tests on plastic concrete.<br />\n<br />\nCSA A23.1 states that all field sampling and test procedures undertaken to assess concrete quality shall be carried out in a accordance with the requirements of CSA A23.2 by personnel certified under an industry recognized program such as CSA A283 or CAN/CSA-ISO 9001 with equivalent scope to CSA A283\; or ACI CSA Standards Concrete Field Testing Technician (formerly ACI Concrete Field Testing Technician Grade1).<br />\n<br />\n<strong>Please Note:&nbsp\;<u>This is not a training course\, it is a certification program.</u></strong>&nbsp\;Prior testing experience is required.&nbsp\;Please be sure to study the workbook thoroughly prior to the&nbsp\; review session and exams!<br />\n<br />\nThe&nbsp\;<strong>Review Session</strong>&nbsp\;will be scheduled&nbsp\;<strong><u>on the morning of the first day</u></strong>.&nbsp\; Though this part is not compulsory to attend\, it <u>is highly recommended that all participants attend </u>so that everyone is very clear on all of the required procedures that will need to be maintained to complete the Written and Performance exams successfully and in a safe manner.<br />\n<br />\nThe&nbsp\;<strong>Test Methods Practice Session</strong>&nbsp\;will be held&nbsp\;<strong><u>in the afternoon of the first day</u>.</strong>&nbsp\;<br />\n<br />\nThe&nbsp\;<strong>Written exam</strong>&nbsp\;will be held&nbsp\;<strong><u>on the morning of the second day</u></strong>. Please be sure to bring your own HB pencil and eraser as well as a calculator. Cell phones are not permitted for use in ACI written exams. No food or drink will be provided. You may bring a bottle of water (please take any empty bottles with you when you leave).<br />\n<br />\nThe&nbsp\;<strong>Performance Exam</strong>&nbsp\;will immediately follow the written exam on the same day.&nbsp\;<br />\n<br />\n<strong>PPE&nbsp\;</strong>will be the responsibility of the participant. Required PPE include safety boots or shoes that can withstand exposure to concrete\, safety glasses\,&nbsp\; long pants and long-sleeved shirts\, Hi Viz Vests or High Vis Coveralls\, hard hats and gloves.<br />\n<br />\nThere will be&nbsp\;a very limited supply of extra&nbsp\;disposable gloves should yours become inoperable at the time of the performance exam. Face masks are optional. <strong><u>You must bring a piece of government issued photo identification either a valid driver&rsquo\;s license or valid passport.</u></strong></span></span><br />\n&nbsp\;
LOCATION:May 27th Graham Construction 8:00am-noon 8404 McIntyre Rd.\, Edmonton Heidelberg Materials 1:00pm-4:30pm 302 Petroleum Way\, Sherwood Park May 28th Graham Construction 8:00am - 9:30am 8404 McIntyre Rd.\, Edmonton Heidelberg Materials 9:30am - 4:00pm 302 Petroleum Way\, Sherwood Park
UID:e.9411.391
SEQUENCE:3
DTSTAMP:20260420T191725Z
URL:https://business.concretealberta.ca/events/details/aci-csa-standards-concrete-field-testing-certification-edmonton-2026-391
END:VEVENT

END:VCALENDAR
